Workbook

Sheet Sheet4
A1: 旅行社名录
A2: 旅行社名称 | B2: 注册地址
A3: 成都中国青年旅行社有限公司 | B3: =VLOOKUP(A3,Sheet2!A:C,3,FALSE) -> 中国（四川）自由贸易试验区成都市高新区万象南路399号西部旅游运营中心
A4: 成都市神州国际旅行社有限公司 | B4: =VLOOKUP(A4,Sheet2!A:C,3,FALSE) -> 中国（四川）自由贸易试验区成都市高新区天府大道北段1700号9栋1单元9楼920号
A5: 成都携程国际旅行社有限公司 | B5: =VLOOKUP(A5,Sheet2!A:C,3,FALSE) -> 中国（四川）自由贸易试验区成都高新区天府四街189号A栋102号
A6: 四川上航假期国际旅行社有限公司 | B6: =VLOOKUP(A6,Sheet2!A:C,3,FALSE) -> 中国（四川）自由贸易试验区成都高新区天府大道中段666号2栋11层1102号
A7: 四川易飞易国际旅行社有限公司 | B7: =VLOOKUP(A7,Sheet2!A:C,3,FALSE) -> 成都高新区科园二路10号3栋2单元10楼2号
A8: 四川商旅国际旅行社有限公司 | B8: =VLOOKUP(A8,Sheet2!A:C,3,FALSE) -> 中国（四川）自由贸易试验区成都市高新区天仁路387号大鼎世纪广场3幢1单元2701号
A9: 成都途风国际旅行社有限公司 | B9: =VLOOKUP(A9,Sheet2!A:C,3,FALSE) -> 中国（四川）自由贸易试验区成都高新区天府四街189号2栋10楼1号
A10: 成都喜之悦假期国际旅行社有限公司 | B10: 中国（四川）自由贸易试验区成都高新区交子大道88号2栋14楼1408号
A11: 四川远大国际旅行社有限公司 | B11: =VLOOKUP(A11,Sheet2!A:C,3,FALSE) -> 中国（四川）自由贸易试验区成都高新区天府大道北段28号1幢1单元23层2305号
A12: 四川远海国际旅行社股份有限公司 | B12: =VLOOKUP(A12,Sheet2!A:C,3,FALSE) -> 中国（四川）自由贸易试验区成都市高新区萃华路89号1栋1单元26层2601号
A13: 成都华美国际旅行社有限公司 | B13: =VLOOKUP(A13,Sheet2!A:C,3,FALSE) -> 成都高新区益州大道中段555号1幢1单元18层01号
A14: 中青旅（四川）国际会议展览有限公司 | B14: =VLOOKUP(A14,Sheet2!A:C,3,FALSE) -> 成都高新区益州大道北段777号1栋2单元18楼1801号
A15: 四川省川航假期国际旅行社有限公司 | B15: 中国（四川）自由贸易试验区成都高新区天府二街266号11层1号
A16: 成都华程国际旅行社有限公司 | B16: =VLOOKUP(A16,Sheet2!A:C,3,FALSE) -> 中国（四川）自由贸易试验区成都高新区天府四街158号2栋1单元20楼2009号
A17: 四川星宇国际旅行社有限公司 | B17: =VLOOKUP(A17,Sheet2!A:C,3,FALSE) -> 成都高新区仁和街39号6栋2层3号
A18: 美踪国际旅行社有限公司 | B18: =VLOOKUP(A18,Sheet2!A:C,3,FALSE) -> 中国（四川）自由贸易试验区成都高新区益州大道中段888号1栋1407号
A19: 成都非常假期国际旅行社有限公司 | B19: =VLOOKUP(A19,Sheet2!A:C,3,FALSE) -> 成都高新区科园二路10号3栋2单元17层2号
A20: 四川宝中国际旅行社有限公司 | B20: =VLOOKUP(A20,Sheet2!A:C,3,FALSE) -> 成都高新区天仁路259号1栋9楼901号
A21: 成都一路通国际旅行社有限公司 | B21: =VLOOKUP(A21,Sheet2!A:C,3,FALSE) -> 中国（四川）自由贸易试验区成都高新区天府三街69号1栋1单元11楼1117号
A22: 成都奥特斯旅游开发有限公司 | B22: =VLOOKUP(A22,Sheet2!A:C,3,FALSE) -> 成都市高新区九兴大道14号4号楼9层903号
A23: 四川世纪金沙国际旅行社有限公司 | B23: =VLOOKUP(A23,Sheet2!A:C,3,FALSE) -> 成都高新区科园三路4号1栋1层1号
A24: 成都海峡国际旅行社有限公司 | B24: =VLOOKUP(A24,Sheet2!A:C,3,FALSE) -> 中国（四川）自由贸易试验区成都高新区天府大道中段1388号D座4楼494号
A25: 四川西部假期旅行社有限公司 | B25: =VLOOKUP(A25,Sheet2!A:C,3,FALSE) -> 成都市高新区天仁路388号4栋8层5号
A26: 成都携程旅行社有限公司 | B26: =VLOOKUP(A26,Sheet2!A:C,3,FALSE) -> 成都高新区天府四街189号A栋101室
A27: 成都华锦旅行社有限公司 | B27: =VLOOKUP(A27,Sheet2!A:C,3,FALSE) -> 成都高新区天益街38号理想中心3栋
... A31: 成都越野者旅行社有限公司 | B31: =VLOOKUP(A31,Sheet2!A:C,3,FALSE) -> 中国（四川）自由贸易试验区成都高新区天府大道中段1388号1栋11层1119号
A32: 四川遇途记文化旅游集团有限公司 | B32: 成都高新区九兴大道14号4栋1单元7楼702号；2022-7-6变更为：成都市成都高新区九兴大道14号4栋1单元14层1402号
A33: 成都天涯越野旅行社有限公司 | B33: =VLOOKUP(A33,Sheet2!A:C,3,FALSE) -> 成都高新区益州大道北段388号8栋3层319号
A34: 成都天地行旅行社有限公司 | B34: =VLOOKUP(A34,Sheet2!A:C,3,FALSE) -> 中国（四川）自由贸易试验区成都高新区天府大道北段1700号9幢1单元6层629号
A35: 四川优联国际旅行社有限责任公司 | B35: =VLOOKUP(A35,Sheet2!A:C,3,FALSE) -> 中国（四川）自由贸易试验区成都高新区盛安街401号1栋1单元5层502、503号
A36: 四川鼎级定制国际旅游有限公司 | B36: =VLOOKUP(A36,Sheet2!A:C,3,FALSE) -> 中国（四川）自由贸易试验区成都高新区锦晖西一街99号1栋2单元20层2002号
A37: 成都市上上国际旅行社有限公司 | B37: =VLOOKUP(A37,Sheet2!A:C,3,FALSE) -> 成都高新区天府大道北段1700号9栋1单元9层928号
A38: 四川传沃旅行社有限公司 | B38: 中国（四川）自由贸易试验区成都高新区府城大道西段399号9栋11楼6号
A39: 成都简途旅行社有限公司 | B39: =VLOOKUP(A39,Sheet2!A:C,3,FALSE) -> 中国（四川）自由贸易试验区成都高新区天华二路219号11栋21层2201号
A40: 四川诚信青年国际旅行社有限公司 | B40: =VLOOKUP(A40,Sheet2!A:C,3,FALSE) -> 成都市高新区交子大道88号1幢19层1905号房
A41: 四川省新美好国际旅行社有限公司 | B41: =VLOOKUP(A41,Sheet2!A:C,3,FALSE) -> 成都市高新区交子大道88号1幢19层1905号
A42: 成都市行无疆旅行社有限公司 | B42: =VLOOKUP(A42,Sheet2!A:C,3,FALSE) -> 成都高新区天府大道北段1700号8栋1单元8层826号
A43: 成都交投旅游运业发展有限公司 | B43: =VLOOKUP(A43,Sheet2!A:C,3,FALSE) -> 中国（四川）自由贸易试验区成都市高新区盛和一路66号
A44: 四川环旅国际旅行社有限公司 | B44: =VLOOKUP(A44,Sheet2!A:C,3,FALSE) -> 中国（四川）自由贸易试验区成都高新区天仁路387号2幢6层605号
A45: 四川雪狼国际旅行社有限公司 | B45: 中国（四川）自由贸易试验区成都高新区盛安街401号1栋2单元19层1901号
A46: 四川户外之家国际旅行社有限公司 | B46: =VLOOKUP(A46,Sheet2!A:C,3,FALSE) -> 中国（四川）自由贸易试验区成都高新区益州大道中段1858号G5栋3楼
A47: 成都梦境国际旅行社有限公司 | B47: =VLOOKUP(A47,Sheet2!A:C,3,FALSE) -> 成都高新区神仙树西路3号1栋11层33号
A48: 成都嘉诚世纪国际旅行社有限公司 | B48: =VLOOKUP(A48,Sheet2!A:C,3,FALSE) -> 中国（四川）自由贸易试验区成都高新区和乐二街171号B区B6-1栋8层812号
A49: 四川加成国际旅行社有限公司 | B49: =VLOOKUP(A49,Sheet2!A:C,3,FALSE) -> 中国（四川）自由贸易试验区成都高新区益州大道北段333号1栋6层602号
A50: 成都宜旅旅行社有限公司 | B50: =VLOOKUP(A50,Sheet2!A:C,3,FALSE) -> 成都高新区天府四街117、153号3栋1楼1号
A51: 四川九久旅居国际旅行社有限公司 | B51: =VLOOKUP(A51,Sheet2!A:C,3,FALSE) -> 成都高新区天府大道北段1700号9栋1单元9楼918号
A52: 四川世途旅游股份有限公司 | B52: =VLOOKUP(A52,Sheet2!A:C,3,FALSE) -> 成都高新区九兴大道14号3幢13层
A53: 成都极自游国际旅行社有限公司 | B53: =VLOOKUP(A53,Sheet2!A:C,3,FALSE) -> 中国（四川）自由贸易试验区成都高新区天府大道中段1388号1栋11层1116号
A54: 四川叁壹捌国际旅行社有限责任公司 | B54: =VLOOKUP(A54,Sheet2!A:C,3,FALSE) -> 中国（四川）自由贸易试验区成都高新区天府大道中段530号1幢17层1702号
A55: 成都候鸟世界通旅行社有限责任公司 | B55: =VLOOKUP(A55,Sheet2!A:C,3,FALSE) -> 中国（四川）自由贸易试验区成都高新区益州大道中段888号1栋1单元20层2004号
A56: 四川省中创国际旅行社有限公司 | B56: =VLOOKUP(A56,Sheet2!A:C,3,FALSE) -> 中国（四川）自由贸易试验区成都高新区天府大道北段1700号8栋1单元13层1322号
A57: 中美创世成都旅行社有限公司 | B57: =VLOOKUP(A57,Sheet2!A:C,3,FALSE) -> 中国（四川）自由贸易试验区成都市高新区天府大道北段1700号3幢1单元701号
... A66: 四川七维国际旅行社有限公司 | B66: =VLOOKUP(A66,Sheet2!A:C,3,FALSE) -> 中国（四川）自由贸易试验区成都高新区府城大道中段88号1栋8层5号
A67: 成都极客行旅行社有限公司 | B67: 中国（四川）自由贸易试验区成都高新区吉庆三路333号1幢3单元17层6号
A68: 四川畅游视界旅行社有限公司 | B68: =VLOOKUP(A68,Sheet2!A:C,3,FALSE) -> 中国（四川）自由贸易试验区成都高新区天府大道中段199号1幢18层6号
A69: 四川悠闲乐途旅行社有限公司 | B69: =VLOOKUP(A69,Sheet2!A:C,3,FALSE) -> 成都高新区二环路南四段2号
A70: 四川时代智和国际旅行社有限责任公司 | B70: =VLOOKUP(A70,Sheet2!A:C,3,FALSE) -> 中国（四川）自由贸易试验区成都高新区天府大道中段530号2栋33楼3312号
A71: 四川思鹿国际旅行社有限公司 | B71: =VLOOKUP(A71,Sheet2!A:C,3,FALSE) -> 成都高新区天目路77号1幢2单元6层625号
A72: 成都珈欣国际旅游有限公司 | B72: =VLOOKUP(A72,Sheet2!A:C,3,FALSE) -> 中国（四川）自由贸易试验区成都高新区吉泰五路88号2栋21层12号
A73: 成都彩钻国际旅行社有限公司 | B73: =VLOOKUP(A73,Sheet2!A:C,3,FALSE) -> 中国（四川）自由贸易试验区成都高新区天府大道北段1700号9栋1单元17层1731号
A74: 四川神兽国际旅行社有限公司 | B74: =VLOOKUP(A74,Sheet2!A:C,3,FALSE) -> 中国（四川）自由贸易试验区成都高新区吉庆三路333号1栋3单元6楼603号
A75: 成都探途研学旅游有限公司 | B75: =VLOOKUP(A75,Sheet2!A:C,3,FALSE) -> 中国（四川）自由贸易试验区成都高新区盛安街401号1栋2单元4楼425号
A76: 四川懒龟国际旅行社有限公司 | B76: =VLOOKUP(A76,Sheet2!A:C,3,FALSE) -> 中国（四川）自由贸易试验区成都高新区锦晖西一街99号1栋2单元20层2002号
A77: 成都在路上联盟国际旅行社有限公司 | B77: 成都高新区益州大道北段366号1栋12楼1203号
A78: 成都绰越国际旅行社有限公司 | B78: =VLOOKUP(A78,Sheet2!A:C,3,FALSE) -> 中国（四川）自由贸易试验区成都高新区吉泰五路88号2栋21层7号
A79: 四川两人行国际旅行社有限公司 | B79: =VLOOKUP(A79,Sheet2!A:C,3,FALSE) -> 中国（四川）自由贸易试验区成都高新区吉瑞三路99号1幢4单元11层1102号
A80: 成都白兰鸽国际旅行社有限公司 | B80: =VLOOKUP(A80,Sheet2!A:C,3,FALSE) -> 成都高新区科园二路10号3栋2单元7楼1号
A81: 四川省哈耶普国际旅行社有限公司 | B81: =VLOOKUP(A81,Sheet2!A:C,3,FALSE) -> 中国（四川）自由贸易试验区成都高新区锦城大道666号4栋6楼12号
A82: 四川欣诚国际旅行社有限公司 | B82: =VLOOKUP(A82,Sheet2!A:C,3,FALSE) -> 成都高新区九兴大道14号4栋1单元9楼903号
A83: 成都易旅国际旅行社有限公司 | B83: =VLOOKUP(A83,Sheet2!A:C,3,FALSE) -> 成都高新区天目路77号10栋2单元9楼912号
A84: 四川假日熊猫国际旅行社有限公司 | B84: =VLOOKUP(A84,Sheet2!A:C,3,FALSE) -> 成都高新区九兴大道14号4栋1单元9楼901号
A85: 成都从此旅行社有限公司 | B85: =VLOOKUP(A85,Sheet2!A:C,3,FALSE) -> 成都高新区二环路南四段10号5楼506号
A86: 四川浪季旅游发展有限公司 | B86: =VLOOKUP(A86,Sheet2!A:C,3,FALSE) -> 成都高新区新义西街96号3栋2层附215号、216号、217号、218号
A87: 途伽旅行社（成都）有限公司 | B87: =VLOOKUP(A87,Sheet2!A:C,3,FALSE) -> 中国（四川）自由贸易试验区成都高新区萃华路89号1栋2单元18层1801号
A88: 四川程优旅游有限公司 | B88: =VLOOKUP(A88,Sheet2!A:C,3,FALSE) -> 中国（四川）自由贸易试验区成都高新区天府大道中段1388号11栋9层16号
A89: 嘉枫国际旅行社（成都）有限公司 | B89: =VLOOKUP(A89,Sheet2!A:C,3,FALSE) -> 成都高新区益州大道北段388号8栋5层531号
... A112: 四川夏日假期旅行社有限公司 | B112: =VLOOKUP(A112,Sheet2!A:C,3,FALSE) -> 成都高新区神仙树西路3号1栋14楼22、23号
A113: 四川驿麒旅游发展有限公司 | B113: 成都高新区益州大道北段366号2栋10层1013
A114: 成都涂下文化旅游有限公司 | B114: =VLOOKUP(A114,Sheet2!A:C,3,FALSE) -> 中国（四川）自由贸易试验区成都高新区天府大道北段1700号3栋2单元7层708号
A115: 柏美山野旅游服务（成都）有限公司 | B115: =VLOOKUP(A115,Sheet2!A:C,3,FALSE) -> 中国（四川）自由贸易试验区成都高新区益州大道北段777号1栋2单元11层1110号
A116: 四川享来国际旅行社有限公司 | B116: =VLOOKUP(A116,Sheet2!A:C,3,FALSE) -> 成都高新区天骄路153号附313号3楼
A117: 四川美嘉莱国际旅行社有限公司 | B117: =VLOOKUP(A117,Sheet2!A:C,3,FALSE) -> 中国（四川）自由贸易试验区成都高新区吉庆三路333号1栋4单元6楼602号
A118: 四川添福国际旅行社有限责任公司 | B118: =VLOOKUP(A118,Sheet2!A:C,3,FALSE) -> 中国（四川）自由贸易试验区成都高新区天府大道中段1388号1栋12层1280号
A119: 成都峰寻无界旅游文化创意有限公司 | B119: =VLOOKUP(A119,Sheet2!A:C,3,FALSE) -> 中国（四川）自由贸易试验区成都高新区天府大道北段1700号2栋1单元14层1412号
A120: 四川万众国际旅行社有限公司 | B120: =VLOOKUP(A120,Sheet2!A:C,3,FALSE) -> 中国（四川）自由贸易试验区成都高新区天府大道北段1700号8栋1单元7楼708号
A121: 四川上云国际旅行社有限公司 | B121: =VLOOKUP(A121,Sheet2!A:C,3,FALSE) -> 中国（四川）自由贸易试验区成都高新区益州大道中段722号4栋18楼1810号
A122: 成都海葵旅行社有限责任公司 | B122: =VLOOKUP(A122,Sheet2!A:C,3,FALSE) -> 中国（四川）自由贸易试验区成都高新区萃华路89号1栋1单元26层2607号
A123: 四川行成旅行社有限公司 | B123: =VLOOKUP(A123,Sheet2!A:C,3,FALSE) -> 中国（四川）自由贸易试验区成都高新区新通大道777号1栋2单元12楼07号
A124: 四川研途全域研学旅行服务有限公司 | B124: =VLOOKUP(A124,Sheet2!A:C,3,FALSE) -> 中国（四川）自由贸易试验区成都高新区天府大道北段1700号7栋1单元1109号
A125: 四川省旅胜天下国际旅行社有限公司 | B125: =VLOOKUP(A125,Sheet2!A:C,3,FALSE) -> 成都高新区创业路2号3层301号
... A140: 四川元冠领国际旅行社有限公司 | B140: =VLOOKUP(A140,Sheet2!A:C,3,FALSE) -> 中国（四川）自由贸易试验区成都高新区蜀锦路88号1栋2单元31层4号
A141: 大行（成都）文化旅游发展有限公司 | B141: 中国（四川）自由贸易试验区成都高新区益州大道北段333号1栋13层1307号
A142: 四川众欣乐乐旅行社有限公司 | B142: =VLOOKUP(A142,Sheet2!A:C,3,FALSE) -> 中国（四川）自由贸易试验区成都高新区天府二街269号27幢24层2401号
A143: 成都跃玩国际旅行社有限责任公司 | B143: =VLOOKUP(A143,Sheet2!A:C,3,FALSE) -> 中国（四川）自由贸易试验区成都高新区吉泰路666号1栋7层4号
A144: 元宇（成都）旅游有限公司 | B144: =VLOOKUP(A144,Sheet2!A:C,3,FALSE) -> 中国（四川）自由贸易试验区成都高新区天府大道中段1366号2栋11层19号
A145: 四川炫彩新南旅行社有限公司 | B145: =VLOOKUP(A145,Sheet2!A:C,3,FALSE) -> 成都高新区天仁路259号1栋9楼903号
A146: 四川果然连线国际旅行社有限公司 | B146: =VLOOKUP(A146,Sheet2!A:C,3,FALSE) -> 中国（四川）自由贸易试验区成都高新区天府大道北段1700号8栋1单元19层1920号
A147: 四川都都文化旅游发展有限公司 | B147: =VLOOKUP(A147,Sheet2!A:C,3,FALSE) -> 中国（四川）自由贸易试验区成都高新区天府大道中段199号28楼
...

Sheet Sheet2
A1: 成都市悠游国际旅行社有限公司 | B1: 91510100MA6BK4U098 | C1: 中国（四川）自由贸易试验区成都高新区天府大道中段1388号1栋6层621号
A2: 四川美丽印象国际旅行社有限公司 | B2: 91510100MA6DEEC27M | C2: 成都高新区新雅东街31号附1号2层
A3: 四川畅游视界旅行社有限公司 | B3: 91510100MA6BX157X8 | C3: 中国（四川）自由贸易试验区成都高新区天府大道中段199号1幢18层6号
A4: 四川川体国际旅行社有限责任公司 | B4: 91510100MA62M3TN0E | C4: 中国（四川）自由贸易试验区成都高新区天府二街269号27栋24层
A5: 四川新幸福国际旅行社有限公司 | B5: 91510100MA6CM63B4C | C5: 中国（四川）自由贸易试验区成都高新区吉泰五路88号3幢14层10号
A6: 美踪国际旅行社有限公司 | B6: 91510105590236450M | C6: 中国（四川）自由贸易试验区成都高新区益州大道中段888号1栋1407号
A7: 四川元冠领国际旅行社有限公司 | B7: 91510100MABN87131T | C7: 中国（四川）自由贸易试验区成都高新区蜀锦路88号1栋2单元31层4号
A8: 元宇（成都）旅游有限公司 | B8: 91510100MA6C7ARE0G | C8: 中国（四川）自由贸易试验区成都高新区天府大道中段1366号2栋11层19号
A9: 成都乐游家旅行社有限责任公司 | B9: 91510100MA6AE7JQ61 | C9: 成都高新区合作路89号17栋1单元10层3号
A10: 四川华曼国际旅行社有限公司 | B10: 91510100MA628GH05D | C10: 成都高新区九兴大道9号2栋1单元1104室
A11: 四川远大国际旅行社有限公司 | B11: 91511402MA62J8275U | C11: 中国（四川）自由贸易试验区成都高新区天府大道北段28号1幢1单元23层2305号
A12: 四川遇途记国际旅行社有限公司 | B12: 915101000912768967 | C12: 成都市成都高新区九兴大道14号4栋1单元14层1402号
... A150: 四川省三月晴天旅游有限公司 | B150: 91510100MA65M79W0Q | C150: 中国（四川）自由贸易试验区成都高新区和乐二街171号B区6栋1单元12层1283号

Sheet Sheet3
