Workbook

Sheet Sheet4
A1: 旅行社名录
A2: 旅行社名称 | B2: 注册地址
A3: 成都中国青年旅行社有限公司 | B3: =VLOOKUP(A3,Sheet2!A:C,3,FALSE) -> 中国（四川）自由贸易试验区成都市高新区万象南路399号西部旅游运营中心
A4: 成都市神州国际旅行社有限公司 | B4: =VLOOKUP(A4,Sheet2!A:C,3,FALSE) -> 中国（四川）自由贸易试验区成都市高新区天府大道北段1700号9栋1单元9楼920号
A5: 成都携程国际旅行社有限公司 | B5: =VLOOKUP(A5,Sheet2!A:C,3,FALSE) -> 中国（四川）自由贸易试验区成都高新区天府四街189号A栋102号
A6: 四川上航假期国际旅行社有限公司 | B6: =VLOOKUP(A6,Sheet2!A:C,3,FALSE) -> 中国（四川）自由贸易试验区成都高新区天府大道中段666号2栋11层1102号
A7: 四川易飞易国际旅行社有限公司 | B7: =VLOOKUP(A7,Sheet2!A:C,3,FALSE) -> 成都高新区科园二路10号3栋2单元10楼2号
A8: 四川商旅国际旅行社有限公司 | B8: =VLOOKUP(A8,Sheet2!A:C,3,FALSE) -> 中国（四川）自由贸易试验区成都市高新区天仁路387号大鼎世纪广场3幢1单元2701号
A9: 成都途风国际旅行社有限公司 | B9: =VLOOKUP(A9,Sheet2!A:C,3,FALSE) -> 中国（四川）自由贸易试验区成都高新区天府四街189号2栋10楼1号
A10: 成都喜之悦假期国际旅行社有限公司 | B10: 中国（四川）自由贸易试验区成都高新区交子大道88号2栋14楼1408号
A11: 四川远大国际旅行社有限公司 | B11: =VLOOKUP(A11,Sheet2!A:C,3,FALSE) -> 中国（四川）自由贸易试验区成都高新区天府大道北段28号1幢1单元23层2305号
A12: 四川远海国际旅行社股份有限公司 | B12: =VLOOKUP(A12,Sheet2!A:C,3,FALSE) -> 中国（四川）自由贸易试验区成都市高新区萃华路89号1栋1单元26层2601号
A13: 成都华美国际旅行社有限公司 | B13: =VLOOKUP(A13,Sheet2!A:C,3,FALSE) -> 成都高新区益州大道中段555号1幢1单元18层01号
A14: 中青旅（四川）国际会议展览有限公司 | B14: =VLOOKUP(A14,Sheet2!A:C,3,FALSE) -> 成都高新区益州大道北段777号1栋2单元18楼1801号
A15: 四川省川航假期国际旅行社有限公司 | B15: 中国（四川）自由贸易试验区成都高新区天府二街266号11层1号
A16: 成都华程国际旅行社有限公司 | B16: =VLOOKUP(A16,Sheet2!A:C,3,FALSE) -> 中国（四川）自由贸易试验区成都高新区天府四街158号2栋1单元20楼2009号
A17: 四川星宇国际旅行社有限公司 | B17: =VLOOKUP(A17,Sheet2!A:C,3,FALSE) -> 成都高新区仁和街39号6栋2层3号
A18: 美踪国际旅行社有限公司 | B18: =VLOOKUP(A18,Sheet2!A:C,3,FALSE) -> 中国（四川）自由贸易试验区成都高新区益州大道中段888号1栋1407号
A19: 成都非常假期国际旅行社有限公司 | B19: =VLOOKUP(A19,Sheet2!A:C,3,FALSE) -> 成都高新区科园二路10号3栋2单元17层2号
A20: 四川宝中国际旅行社有限公司 | B20: =VLOOKUP(A20,Sheet2!A:C,3,FALSE) -> 成都高新区天仁路259号1栋9楼901号
A21: 成都一路通国际旅行社有限公司 | B21: =VLOOKUP(A21,Sheet2!A:C,3,FALSE) -> 中国（四川）自由贸易试验区成都高新区天府三街69号1栋1单元11楼1117号
A22: 成都奥特斯旅游开发有限公司 | B22: =VLOOKUP(A22,Sheet2!A:C,3,FALSE) -> 成都市高新区九兴大道14号4号楼9层903号
A23: 四川世纪金沙国际旅行社有限公司 | B23: =VLOOKUP(A23,Sheet2!A:C,3,FALSE) -> 成都高新区科园三路4号1栋1层1号
A24: 成都海峡国际旅行社有限公司 | B24: =VLOOKUP(A24,Sheet2!A:C,3,FALSE) -> 中国（四川）自由贸易试验区成都高新区天府大道中段1388号D座4楼494号
A25: 四川西部假期旅行社有限公司 | B25: =VLOOKUP(A25,Sheet2!A:C,3,FALSE) -> 成都市高新区天仁路388号4栋8层5号
A26: 成都携程旅行社有限公司 | B26: =VLOOKUP(A26,Sheet2!A:C,3,FALSE) -> 成都高新区天府四街189号A栋101室
A27: 成都华锦旅行社有限公司 | B27: =VLOOKUP(A27,Sheet2!A:C,3,FALSE) -> 成都高新区天益街38号理想中心3栋
... A31: 成都越野者旅行社有限公司 | B31: =VLOOKUP(A31,Sheet2!A:C,3,FALSE) -> 中国（四川）自由贸易试验区成都高新区天府大道中段1388号1栋11层1119号
A32: 四川遇途记文化旅游集团有限公司 | B32: 成都高新区九兴大道14号4栋1单元7楼702号；2022-7-6变更为：成都市成都高新区九兴大道14号4栋1单元14层1402号
A33: 成都天涯越野旅行社有限公司 | B33: =VLOOKUP(A33,Sheet2!A:C,3,FALSE) -> 成都高新区益州大道北段388号8栋3层319号
A34: 成都天地行旅行社有限公司 | B34: =VLOOKUP(A34,Sheet2!A:C,3,FALSE) -> 中国（四川）自由贸易试验区成都高新区天府大道北段1700号9幢1单元6层629号
A35: 四川优联国际旅行社有限责任公司 | B35: =VLOOKUP(A35,Sheet2!A:C,3,FALSE) -> 中国（四川）自由贸易试验区成都高新区盛安街401号1栋1单元5层502、503号
A36: 四川鼎级定制国际旅游有限公司 | B36: =VLOOKUP(A36,Sheet2!A:C,3,FALSE) -> 中国（四川）自由贸易试验区成都高新区锦晖西一街99号1栋2单元20层2002号
A37: 成都市上上国际旅行社有限公司 | B37: =VLOOKUP(A37,Sheet2!A:C,3,FALSE) -> 成都高新区天府大道北段1700号9栋1单元9层928号
A38: 四川传沃旅行社有限公司 | B38: 中国（四川）自由贸易试验区成都高新区府城大道西段399号9栋11楼6号
A39: 成都简途旅行社有限公司 | B39: =VLOOKUP(A39,Sheet2!A:C,3,FALSE) -> 中国（四川）自由贸易试验区成都高新区天华二路219号11栋21层2201号
A40: 四川诚信青年国际旅行社有限公司 | B40: =VLOOKUP(A40,Sheet2!A:C,3,FALSE) -> 成都市高新区交子大道88号1幢19层1905号房
A41: 四川省新美好国际旅行社有限公司 | B41: =VLOOKUP(A41,Sheet2!A:C,3,FALSE) -> 成都市高新区交子大道88号1幢19层1905号
A42: 成都市行无疆旅行社有限公司 | B42: =VLOOKUP(A42,Sheet2!A:C,3,FALSE) -> 成都高新区天府大道北段1700号8栋1单元8层826号
A43: 成都交投旅游运业发展有限公司 | B43: =VLOOKUP(A43,Sheet2!A:C,3,FALSE) -> 中国（四川）自由贸易试验区成都市高新区盛和一路66号
...

Sheet Sheet2
A1: 成都市悠游国际旅行社有限公司 | B1: 91510100MA6BK4U098 | C1: 中国（四川）自由贸易试验区成都高新区天府大道中段1388号1栋6层621号
A2: 四川美丽印象国际旅行社有限公司 | B2: 91510100MA6DEEC27M | C2: 成都高新区新雅东街31号附1号2层
A3: 四川畅游视界旅行社有限公司 | B3: 91510100MA6BX157X8 | C3: 中国（四川）自由贸易试验区成都高新区天府大道中段199号1幢18层6号
A4: 四川川体国际旅行社有限责任公司 | B4: 91510100MA62M3TN0E | C4: 中国（四川）自由贸易试验区成都高新区天府二街269号27栋24层
A5: 四川新幸福国际旅行社有限公司 | B5: 91510100MA6CM63B4C | C5: 中国（四川）自由贸易试验区成都高新区吉泰五路88号3幢14层10号
A6: 美踪国际旅行社有限公司 | B6: 91510105590236450M | C6: 中国（四川）自由贸易试验区成都高新区益州大道中段888号1栋1407号
A7: 四川元冠领国际旅行社有限公司 | B7: 91510100MABN87131T | C7: 中国（四川）自由贸易试验区成都高新区蜀锦路88号1栋2单元31层4号
A8: 元宇（成都）旅游有限公司 | B8: 91510100MA6C7ARE0G | C8: 中国（四川）自由贸易试验区成都高新区天府大道中段1366号2栋11层19号
A9: 成都乐游家旅行社有限责任公司 | B9: 91510100MA6AE7JQ61 | C9: 成都高新区合作路89号17栋1单元10层3号
A10: 四川华曼国际旅行社有限公司 | B10: 91510100MA628GH05D | C10: 成都高新区九兴大道9号2栋1单元1104室
A11: 四川远大国际旅行社有限公司 | B11: 91511402MA62J8275U | C11: 中国（四川）自由贸易试验区成都高新区天府大道北段28号1幢1单元23层2305号
A12: 四川遇途记国际旅行社有限公司 | B12: 915101000912768967 | C12: 成都市成都高新区九兴大道14号4栋1单元14层1402号
... A150: 四川省三月晴天旅游有限公司 | B150: 91510100MA65M79W0Q | C150: 中国（四川）自由贸易试验区成都高新区和乐二街171号B区6栋1单元12层1283号

Sheet Sheet3
